Workbook

Sheet Befutv
A1: SCB
A2: Befolkningsutveckling 1749-2020
A3: År | B3: Folkmängd | C3: Födda | D3: Döda | E3: Invandringar | F3: Utvandringar | G3: Giftermål 1) | H3: Skilsmässor 1)
A4: 1749 | B4: 1764724 | C4: 59483 | D4: 49516 | E4: .. | F4: .. | G4: 15046 | H4: ..
A5: 1750 | B5: 1780678 | C5: 64511 | D5: 47622 | E5: .. | F5: .. | G5: 16374 | H5: ..
A6: 1751 | B6: 1802132 | C6: 69291 | D6: 46902 | E6: .. | F6: .. | G6: 16599 | H6: ..
A7: 1752 | B7: 1816703 | C7: 64973 | D7: 49467 | E7: .. | F7: .. | G7: 16761 | H7: ..
A8: 1753 | B8: 1837869 | C8: 66007 | D8: 43905 | E8: .. | F8: .. | G8: 15923 | H8: ..
A9: 1754 | B9: 1857047 | C9: 68759 | D9: 48645 | E9: .. | F9: .. | G9: 17457 | H9: ..
A10: 1755 | B10: 1875029 | C10: 70008 | D10: 51090 | E10: .. | F10: .. | G10: 17097 | H10: ..
A11: 1756 | B11: 1889424 | C11: 67987 | D11: 52062 | E11: .. | F11: .. | G11: 16005 | H11: ..
A12: 1757 | B12: 1892990 | C12: 61675 | D12: 56579 | E12: .. | F12: .. | G12: 15078 | H12: ..
A13: 1758 | B13: 1893444 | C13: 63262 | D13: 61277 | E13: .. | F13: .. | G13: 15273 | H13: ..
A14: 1759 | B14: 1905866 | C14: 63865 | D14: 49912 | E14: .. | F14: .. | G14: 18529 | H14: ..
A15: 1760 | B15: 1925248 | C15: 68384 | D15: 47471 | E15: .. | F15: .. | G15: 18705 | H15: ..
... A85: 1830 | B85: 2888082 | C85: 94626 | D85: 69251 | E85: .. | F85: .. | G85: 22222 | H85: ..
A86: 1831 | B86: 2901039 | C86: 88253 | D86: 75274 | E86: .. | F86: .. | G86: 19983 | H86: 95
A87: 1832 | B87: 2922801 | C87: 89862 | D87: 68078 | E87: .. | F87: .. | G87: 20935 | H87: 118
A88: 1833 | B88: 2959141 | C88: 100309 | D88: 63947 | E88: .. | F88: .. | G88: 23029 | H88: 135
A89: 1834 | B89: 2983055 | C89: 100231 | D89: 76294 | E89: .. | F89: .. | G89: 23803 | H89: 121
A90: 1835 | B90: 3025439 | C90: 98144 | D90: 55738 | E90: .. | F90: .. | G90: 22533 | H90: 87
A91: 1836 | B91: 3059356 | C91: 96857 | D91: 60763 | E91: .. | F91: .. | G91: 21816 | H91: 117
A92: 1837 | B92: 3076184 | C92: 94616 | D92: 75611 | E92: .. | F92: .. | G92: 21153 | H92: 85
A93: 1838 | B93: 3090262 | C93: 90565 | D93: 74309 | E93: .. | F93: .. | G93: 18774 | H93: 120
A94: 1839 | B94: 3106459 | C94: 91363 | D94: 72988 | E94: .. | F94: .. | G94: 20963 | H94: 83
A95: 1840 | B95: 3138887 | C95: 98160 | D95: 63555 | E95: .. | F95: .. | G95: 22071 | H95: 97
A96: 1841 | B96: 3173160 | C96: 95734 | D96: 61279 | E96: .. | F96: .. | G96: 22619 | H96: 105
A97: 1842 | B97: 3206776 | C97: 100976 | D97: 67177 | E97: .. | F97: .. | G97: 22691 | H97: 87
... A105: 1850 | B105: 3482541 | C105: 110399 | D105: 68514 | E105: .. | F105: .. | G105: 26267 | H105: 100
A106: 1851 | B106: 3516647 | C106: 111065 | D106: 72506 | E106: .. | F106: 1102 | G106: 25750 | H106: 122
A107: 1852 | B107: 3540409 | C107: 108305 | D107: 80090 | E107: .. | F107: 3314 | G107: 24150 | H107: 112
A108: 1853 | B108: 3563316 | C108: 111407 | D108: 84047 | E108: .. | F108: 2998 | G108: 25596 | H108: 106
A109: 1854 | B109: 3608124 | C109: 120107 | D109: 70846 | E109: .. | F109: 4243 | G109: 27585 | H109: 124
A110: 1855 | B110: 3641011 | C110: 115072 | D110: 77734 | E110: .. | F110: 1087 | G110: 27253 | H110: 115
A111: 1856 | B111: 3672988 | C111: 115082 | D111: 79618 | E111: .. | F111: 1130 | G111: 27221 | H111: 130
A112: 1857 | B112: 3687601 | C112: 119349 | D112: 101491 | E112: .. | F112: 1831 | G112: 28531 | H112: 119
A113: 1858 | B113: 3734240 | C113: 129039 | D113: 80498 | E113: .. | F113: 571 | G113: 30092 | H113: 124
A114: 1859 | B114: 3787735 | C114: 131605 | D114: 75720 | E114: .. | F114: 276 | G114: 31125 | H114: 132
A115: 1860 | B115: 3859728 | C115: 133162 | D115: 67502 | E115: .. | F115: 348 | G115: 29839 | H115: 119
A116: 1861 | B116: 3917339 | C116: 126634 | D116: 71829 | E116: .. | F116: 2286 | G116: 28272 | H116: 150
...

Sheet Döda per 1000
A1: Årtal | B1: Dödsfall | C1: Förväntade antalet dödsfall (genomsnitt de fem tidigare åren) | D1: Överdödlighet i absoluta tal | E1: Dödsfall per 1000 | F1: Förväntade antalet dödsfall per 1000 | G1: Överdödlighet per 1000
A2: =Befutv!A150 -> 1895 | B2: =Befutv!D150 -> 74368 | C2: =SUM(Befutv!D145:D149)/5 -> 81758.4 | D2: =B2-C2 -> -7390.4 | E2: =Befutv!D150/Befutv!B150*1000 -> 15.117721
A3: =Befutv!A151 -> 1896 | B3: =Befutv!D151 -> 77259 | C3: =SUM(Befutv!D146:D150)/5 -> 80267.2 | D3: =B3-C3 -> -3008.2 | E3: =Befutv!D151/Befutv!B151*1000 -> 15.568351
A4: =Befutv!A152 -> 1897 | B4: =Befutv!D152 -> 76558 | C4: =SUM(Befutv!D147:D151)/5 -> 79598.4 | D4: =B4-C4 -> -3040.4 | E4: =Befutv!D152/Befutv!B152*1000 -> 15.28216
A5: =Befutv!A153 -> 1898 | B5: =Befutv!D153 -> 75949 | C5: =SUM(Befutv!D148:D152)/5 -> 77731.2 | D5: =B5-C5 -> -1782.2 | E5: =Befutv!D153/Befutv!B153*1000 -> 15.001033
A6: =Befutv!A154 -> 1899 | B6: =Befutv!D154 -> 89678 | C6: =SUM(Befutv!D149:D153)/5 -> 76715.6 | D6: =B6-C6 -> 12962.4 | E6: =Befutv!D154/Befutv!B154*1000 -> 17.592884
A7: =Befutv!A155 -> 1900 | B7: =Befutv!D155 -> 86146 | C7: =SUM(Befutv!D150:D154)/5 -> 78762.4 | D7: =B7-C7 -> 7383.6 | E7: =Befutv!D155/Befutv!B155*1000 -> 16.771535 | F7: =SUM(E2:E6)/5 -> 15.71243 | G7: =E7-F7 -> 1.0591052
A8: =Befutv!A156 -> 1901 | B8: =Befutv!D156 -> 82772 | C8: =SUM(Befutv!D151:D155)/5 -> 81118 | D8: =B8-C8 -> 1654 | E8: =Befutv!D156/Befutv!B156*1000 -> 15.993885 | F8: =SUM(E3:E7)/5 -> 16.043193 | G8: =E8-F8 -> -0.049307874
A9: =Befutv!A157 -> 1902 | B9: =Befutv!D157 -> 79722 | C9: =SUM(Befutv!D152:D156)/5 -> 82220.6 | D9: =B9-C9 -> -2498.6 | E9: =Befutv!D157/Befutv!B157*1000 -> 15.334834 | F9: =SUM(E4:E8)/5 -> 16.128299 | G9: =E9-F9 -> -0.79346514
A10: =Befutv!A158 -> 1903 | B10: =Befutv!D158 -> 78610 | C10: =SUM(Befutv!D153:D157)/5 -> 82853.4 | D10: =B10-C10 -> -4243.4 | E10: =Befutv!D158/Befutv!B158*1000 -> 15.055663 | F10: =SUM(E5:E9)/5 -> 16.138834 | G10: =E10-F10 -> -1.0831707
A11: =Befutv!A159 -> 1904 | B11: =Befutv!D159 -> 80152 | C11: =SUM(Befutv!D154:D158)/5 -> 83385.6 | D11: =B11-C11 -> -3233.6 | E11: =Befutv!D159/Befutv!B159*1000 -> 15.235674 | F11: =SUM(E6:E10)/5 -> 16.14976 | G11: =E11-F11 -> -0.91408645
A12: =Befutv!A160 -> 1905 | B12: =Befutv!D160 -> 82443 | C12: =SUM(Befutv!D155:D159)/5 -> 81480.4 | D12: =B12-C12 -> 962.6 | E12: =Befutv!D160/Befutv!B160*1000 -> 15.57031 | F12: =SUM(E7:E11)/5 -> 15.678318 | G12: =E12-F12 -> -0.10800838
A13: =Befutv!A161 -> 1906 | B13: =Befutv!D161 -> 76366 | C13: =SUM(Befutv!D156:D160)/5 -> 80739.8 | D13: =B13-C13 -> -4373.8 | E13: =Befutv!D161/Befutv!B161*1000 -> 14.30864 | F13: =SUM(E8:E12)/5 -> 15.438073 | G13: =E13-F13 -> -1.1294329
A14: =Befutv!A162 -> 1907 | B14: =Befutv!D162 -> 78149 | C14: =SUM(Befutv!D157:D161)/5 -> 79458.6 | D14: =B14-C14 -> -1309.6 | E14: =Befutv!D162/Befutv!B162*1000 -> 14.532014 | F14: =SUM(E9:E13)/5 -> 15.101024 | G14: =E14-F14 -> -0.56901041
A15: =Befutv!A163 -> 1908 | B15: =Befutv!D163 -> 80568 | C15: =SUM(Befutv!D158:D162)/5 -> 79144 | D15: =B15-C15 -> 1424 | E15: =Befutv!D163/Befutv!B163*1000 -> 14.838662 | F15: =SUM(E10:E14)/5 -> 14.94046 | G15: =E15-F15 -> -0.10179808
A16: =Befutv!A164 -> 1909 | B16: =Befutv!D164 -> 74538 | C16: =SUM(Befutv!D159:D163)/5 -> 79535.6 | D16: =B16-C16 -> -4997.6 | E16: =Befutv!D164/Befutv!B164*1000 -> 13.610664 | F16: =SUM(E11:E15)/5 -> 14.89706 | G16: =E16-F16 -> -1.2863957
A17: =Befutv!A165 -> 1910 | B17: =Befutv!D165 -> 77212 | C17: =SUM(Befutv!D160:D164)/5 -> 78412.8 | D17: =B17-C17 -> -1200.8 | E17: =Befutv!D165/Befutv!B165*1000 -> 13.981595 | F17: =SUM(E12:E16)/5 -> 14.572058 | G17: =E17-F17 -> -0.59046348
A18: =Befutv!A166 -> 1911 | B18: =Befutv!D166 -> 76462 | C18: =SUM(Befutv!D161:D165)/5 -> 77366.6 | D18: =B18-C18 -> -904.6 | E18: =Befutv!D166/Befutv!B166*1000 -> 13.74771 | F18: =SUM(E13:E17)/5 -> 14.254315 | G18: =E18-F18 -> -0.50660499
... A127: =Befutv!A275 -> 2020 | B127: =Befutv!D275 -> 98124 | C127: =SUM(Befutv!D270:D274)/5 -> 90962.4 | D127: =B127-C127 -> 7161.6 | E127: =Befutv!D275/Befutv!B275*1000 -> 9.4538213 | F127: =SUM(E122:E126)/5 -> 9.0049672 | G127: =E127-F127 -> 0.44885412

Sheet 4 års snitt
A1: Årtal | B1: Dödsfall | C1: Förväntade antalet dödsfall (genomsnitt de fyra tidigare åren) | D1: Överdödlighet i absoluta tal | E1: Dödsfall per 1000 | F1: Förväntade antalet dödsfall per 1000 | G1: Överdödlighet per 1000
A2: =Befutv!A150 -> 1895 | B2: =Befutv!D150 -> 74368 | C2: =SUM(Befutv!D146:D149)/4 -> 81742 | D2: =B2-C2 -> -7374 | E2: =Befutv!D150/Befutv!B150*1000 -> 15.117721
A3: =Befutv!A151 -> 1896 | B3: =Befutv!D151 -> 77259 | C3: =SUM(Befutv!D147:D150)/4 -> 80183.25 | D3: =B3-C3 -> -2924.25 | E3: =Befutv!D151/Befutv!B151*1000 -> 15.568351
A4: =Befutv!A152 -> 1897 | B4: =Befutv!D152 -> 76558 | C4: =SUM(Befutv!D148:D151)/4 -> 78024.5 | D4: =B4-C4 -> -1466.5 | E4: =Befutv!D152/Befutv!B152*1000 -> 15.28216
A5: =Befutv!A153 -> 1898 | B5: =Befutv!D153 -> 75949 | C5: =SUM(Befutv!D149:D152)/4 -> 76907.25 | D5: =B5-C5 -> -958.25 | E5: =Befutv!D153/Befutv!B153*1000 -> 15.001033
A6: =Befutv!A154 -> 1899 | B6: =Befutv!D154 -> 89678 | C6: =SUM(Befutv!D150:D153)/4 -> 76033.5 | D6: =B6-C6 -> 13644.5 | E6: =Befutv!D154/Befutv!B154*1000 -> 17.592884
A7: =Befutv!A155 -> 1900 | B7: =Befutv!D155 -> 86146 | C7: =SUM(Befutv!D151:D154)/4 -> 79861 | D7: =B7-C7 -> 6285 | E7: =Befutv!D155/Befutv!B155*1000 -> 16.771535 | F7: =SUM(E2:E6)/5 -> 15.71243 | G7: =E7-F7 -> 1.0591052
A8: =Befutv!A156 -> 1901 | B8: =Befutv!D156 -> 82772 | C8: =SUM(Befutv!D152:D155)/4 -> 82082.75 | D8: =B8-C8 -> 689.25 | E8: =Befutv!D156/Befutv!B156*1000 -> 15.993885 | F8: =SUM(E3:E7)/5 -> 16.043193 | G8: =E8-F8 -> -0.049307874
A9: =Befutv!A157 -> 1902 | B9: =Befutv!D157 -> 79722 | C9: =SUM(Befutv!D153:D156)/4 -> 83636.25 | D9: =B9-C9 -> -3914.25 | E9: =Befutv!D157/Befutv!B157*1000 -> 15.334834 | F9: =SUM(E4:E8)/5 -> 16.128299 | G9: =E9-F9 -> -0.79346514
A10: =Befutv!A158 -> 1903 | B10: =Befutv!D158 -> 78610 | C10: =SUM(Befutv!D154:D157)/4 -> 84579.5 | D10: =B10-C10 -> -5969.5 | E10: =Befutv!D158/Befutv!B158*1000 -> 15.055663 | F10: =SUM(E5:E9)/5 -> 16.138834 | G10: =E10-F10 -> -1.0831707
A11: =Befutv!A159 -> 1904 | B11: =Befutv!D159 -> 80152 | C11: =SUM(Befutv!D155:D158)/4 -> 81812.5 | D11: =B11-C11 -> -1660.5 | E11: =Befutv!D159/Befutv!B159*1000 -> 15.235674 | F11: =SUM(E6:E10)/5 -> 16.14976 | G11: =E11-F11 -> -0.91408645
A12: =Befutv!A160 -> 1905 | B12: =Befutv!D160 -> 82443 | C12: =SUM(Befutv!D156:D159)/4 -> 80314 | D12: =B12-C12 -> 2129 | E12: =Befutv!D160/Befutv!B160*1000 -> 15.57031 | F12: =SUM(E7:E11)/5 -> 15.678318 | G12: =E12-F12 -> -0.10800838
A13: =Befutv!A161 -> 1906 | B13: =Befutv!D161 -> 76366 | C13: =SUM(Befutv!D157:D160)/4 -> 80231.75 | D13: =B13-C13 -> -3865.75 | E13: =Befutv!D161/Befutv!B161*1000 -> 14.30864 | F13: =SUM(E8:E12)/5 -> 15.438073 | G13: =E13-F13 -> -1.1294329
A14: =Befutv!A162 -> 1907 | B14: =Befutv!D162 -> 78149 | C14: =SUM(Befutv!D158:D161)/4 -> 79392.75 | D14: =B14-C14 -> -1243.75 | E14: =Befutv!D162/Befutv!B162*1000 -> 14.532014 | F14: =SUM(E9:E13)/5 -> 15.101024 | G14: =E14-F14 -> -0.56901041
A15: =Befutv!A163 -> 1908 | B15: =Befutv!D163 -> 80568 | C15: =SUM(Befutv!D159:D162)/4 -> 79277.5 | D15: =B15-C15 -> 1290.5 | E15: =Befutv!D163/Befutv!B163*1000 -> 14.838662 | F15: =SUM(E10:E14)/5 -> 14.94046 | G15: =E15-F15 -> -0.10179808
A16: =Befutv!A164 -> 1909 | B16: =Befutv!D164 -> 74538 | C16: =SUM(Befutv!D160:D163)/4 -> 79381.5 | D16: =B16-C16 -> -4843.5 | E16: =Befutv!D164/Befutv!B164*1000 -> 13.610664 | F16: =SUM(E11:E15)/5 -> 14.89706 | G16: =E16-F16 -> -1.2863957
A17: =Befutv!A165 -> 1910 | B17: =Befutv!D165 -> 77212 | C17: =SUM(Befutv!D161:D164)/4 -> 77405.25 | D17: =B17-C17 -> -193.25 | E17: =Befutv!D165/Befutv!B165*1000 -> 13.981595 | F17: =SUM(E12:E16)/5 -> 14.572058 | G17: =E17-F17 -> -0.59046348
A18: =Befutv!A166 -> 1911 | B18: =Befutv!D166 -> 76462 | C18: =SUM(Befutv!D162:D165)/4 -> 77616.75 | D18: =B18-C18 -> -1154.75 | E18: =Befutv!D166/Befutv!B166*1000 -> 13.74771 | F18: =SUM(E13:E17)/5 -> 14.254315 | G18: =E18-F18 -> -0.50660499
... A127: =Befutv!A275 -> 2020 | B127: =Befutv!D275 -> 98124 | C127: =SUM(Befutv!D271:D274)/4 -> 90976.25 | D127: =B127-C127 -> 7147.75 | E127: =Befutv!D275/Befutv!B275*1000 -> 9.4538213 | F127: =SUM(E122:E126)/5 -> 9.0049672 | G127: =E127-F127 -> 0.44885412

Sheet 10 års snitt
A1: Årtal | B1: Dödsfall | C1: Förväntade antalet dödsfall (genomsnitt de fem tidigare åren) | D1: Överdödlighet i absoluta tal | E1: Dödsfall per 1000 | F1: Förväntade antalet dödsfall per 1000 | G1: Överdödlighet per 1000
A2: =Befutv!A145 -> 1890 | B2: =Befutv!D145 -> 81824 | E2: =Befutv!D145/Befutv!B145*1000 -> 17.100172
A3: =Befutv!A146 -> 1891 | B3: =Befutv!D146 -> 80603 | E3: =Befutv!D146/Befutv!B146*1000 -> 16.782673
A4: =Befutv!A147 -> 1892 | B4: =Befutv!D147 -> 85894 | E4: =Befutv!D147/Befutv!B147*1000 -> 17.869027
A5: =Befutv!A148 -> 1893 | B5: =Befutv!D148 -> 81027 | E5: =Befutv!D148/Befutv!B148*1000 -> 16.79612
A6: =Befutv!A149 -> 1894 | B6: =Befutv!D149 -> 79444 | E6: =Befutv!D149/Befutv!B149*1000 -> 16.302281
A7: =Befutv!A150 -> 1895 | B7: =Befutv!D150 -> 74368 | C7: =SUM(Befutv!D140:'Befutv'!D149)/10 -> 79780 | D7: =B7-C7 -> -5412 | E7: =Befutv!D150/Befutv!B150*1000 -> 15.117721
A8: =Befutv!A151 -> 1896 | B8: =Befutv!D151 -> 77259 | C8: =SUM(Befutv!D141:'Befutv'!D150)/10 -> 78938.7 | D8: =B8-C8 -> -1679.7 | E8: =Befutv!D151/Befutv!B151*1000 -> 15.568351
A9: =Befutv!A152 -> 1897 | B9: =Befutv!D152 -> 76558 | C9: =SUM(Befutv!D142:'Befutv'!D151)/10 -> 78860.1 | D9: =B9-C9 -> -2302.1 | E9: =Befutv!D152/Befutv!B152*1000 -> 15.28216
A10: =Befutv!A153 -> 1898 | B10: =Befutv!D153 -> 75949 | C10: =SUM(Befutv!D143:'Befutv'!D152)/10 -> 78893.2 | D10: =B10-C10 -> -2944.2 | E10: =Befutv!D153/Befutv!B153*1000 -> 15.001033
A11: =Befutv!A154 -> 1899 | B11: =Befutv!D154 -> 89678 | C11: =SUM(Befutv!D144:'Befutv'!D153)/10 -> 78905 | D11: =B11-C11 -> 10773 | E11: =Befutv!D154/Befutv!B154*1000 -> 17.592884
A12: =Befutv!A155 -> 1900 | B12: =Befutv!D155 -> 86146 | C12: =SUM(Befutv!D145:'Befutv'!D154)/10 -> 80260.4 | D12: =B12-C12 -> 5885.6 | E12: =Befutv!D155/Befutv!B155*1000 -> 16.771535 | F12: =SUM(E2:E11)/10 -> 16.341242 | G12: =E12-F12 -> 0.43029279
A13: =Befutv!A156 -> 1901 | B13: =Befutv!D156 -> 82772 | C13: =SUM(Befutv!D146:'Befutv'!D155)/10 -> 80692.6 | D13: =B13-C13 -> 2079.4 | E13: =Befutv!D156/Befutv!B156*1000 -> 15.993885 | F13: =SUM(E3:E12)/10 -> 16.308378 | G13: =E13-F13 -> -0.31449376
A14: =Befutv!A157 -> 1902 | B14: =Befutv!D157 -> 79722 | C14: =SUM(Befutv!D147:'Befutv'!D156)/10 -> 80909.5 | D14: =B14-C14 -> -1187.5 | E14: =Befutv!D157/Befutv!B157*1000 -> 15.334834 | F14: =SUM(E4:E13)/10 -> 16.2295 | G14: =E14-F14 -> -0.89466543
A15: =Befutv!A158 -> 1903 | B15: =Befutv!D158 -> 78610 | C15: =SUM(Befutv!D148:'Befutv'!D157)/10 -> 80292.3 | D15: =B15-C15 -> -1682.3 | E15: =Befutv!D158/Befutv!B158*1000 -> 15.055663 | F15: =SUM(E5:E14)/10 -> 15.97608 | G15: =E15-F15 -> -0.92041693
A16: =Befutv!A159 -> 1904 | B16: =Befutv!D159 -> 80152 | C16: =SUM(Befutv!D149:'Befutv'!D158)/10 -> 80050.6 | D16: =B16-C16 -> 101.4 | E16: =Befutv!D159/Befutv!B159*1000 -> 15.235674 | F16: =SUM(E6:E15)/10 -> 15.802035 | G16: =E16-F16 -> -0.56636101
A17: =Befutv!A160 -> 1905 | B17: =Befutv!D160 -> 82443 | C17: =SUM(Befutv!D150:'Befutv'!D159)/10 -> 80121.4 | D17: =B17-C17 -> 2321.6 | E17: =Befutv!D160/Befutv!B160*1000 -> 15.57031 | F17: =SUM(E7:E16)/10 -> 15.695374 | G17: =E17-F17 -> -0.12506416
A18: =Befutv!A161 -> 1906 | B18: =Befutv!D161 -> 76366 | C18: =SUM(Befutv!D151:'Befutv'!D160)/10 -> 80928.9 | D18: =B18-C18 -> -4562.9 | E18: =Befutv!D161/Befutv!B161*1000 -> 14.30864 | F18: =SUM(E8:E17)/10 -> 15.740633 | G18: =E18-F18 -> -1.4319926
A19: =Befutv!A162 -> 1907 | B19: =Befutv!D162 -> 78149 | C19: =SUM(Befutv!D152:'Befutv'!D161)/10 -> 80839.6 | D19: =B19-C19 -> -2690.6 | E19: =Befutv!D162/Befutv!B162*1000 -> 14.532014 | F19: =SUM(E9:E18)/10 -> 15.614662 | G19: =E19-F19 -> -1.0826479
A20: =Befutv!A163 -> 1908 | B20: =Befutv!D163 -> 80568 | C20: =SUM(Befutv!D153:'Befutv'!D162)/10 -> 80998.7 | D20: =B20-C20 -> -430.7 | E20: =Befutv!D163/Befutv!B163*1000 -> 14.838662 | F20: =SUM(E10:E19)/10 -> 15.539647 | G20: =E20-F20 -> -0.70098502
A21: =Befutv!A164 -> 1909 | B21: =Befutv!D164 -> 74538 | C21: =SUM(Befutv!D154:'Befutv'!D163)/10 -> 81460.6 | D21: =B21-C21 -> -6922.6 | E21: =Befutv!D164/Befutv!B164*1000 -> 13.610664 | F21: =SUM(E11:E20)/10 -> 15.52341 | G21: =E21-F21 -> -1.9127458
A22: =Befutv!A165 -> 1910 | B22: =Befutv!D165 -> 77212 | C22: =SUM(Befutv!D155:'Befutv'!D164)/10 -> 79946.6 | D22: =B22-C22 -> -2734.6 | E22: =Befutv!D165/Befutv!B165*1000 -> 13.981595 | F22: =SUM(E12:E21)/10 -> 15.125188 | G22: =E22-F22 -> -1.1435935
A23: =Befutv!A166 -> 1911 | B23: =Befutv!D166 -> 76462 | C23: =SUM(Befutv!D156:'Befutv'!D165)/10 -> 79053.2 | D23: =B23-C23 -> -2591.2 | E23: =Befutv!D166/Befutv!B166*1000 -> 13.74771 | F23: =SUM(E13:E22)/10 -> 14.846194 | G23: =E23-F23 -> -1.0984841
... A132: =Befutv!A275 -> 2020 | B132: =Befutv!D275 -> 98124 | C132: =SUM(Befutv!D265:'Befutv'!D274)/10 -> 90655.3 | D132: =B132-C132 -> 7468.7 | E132: =Befutv!D275/Befutv!B275*1000 -> 9.4538213 | F132: =SUM(E122:E131)/10 -> 9.2241839 | G132: =E132-F132 -> 0.22963741
